BEGIN:VCALENDAR
VERSION:2.0
PRODID:-//wp-events-plugin.com//7.2.3.1//EN
TZID:Europe/Prague
X-WR-TIMEZONE:Europe/Prague
BEGIN:VEVENT
UID:5@aceskv.cz
DTSTART;TZID=Europe/Prague;VALUE=DATE:20260523
DTEND;TZID=Europe/Prague;VALUE=DATE:20260524
DTSTAMP:20260423T095311Z
URL:https://aceskv.cz/events/krusnej-sebeh/
SUMMARY:Krušnej seběh
DESCRIPTION:
CATEGORIES:HOPR Liga běžců
LOCATION:Nové Hamry\, \, Česká republika
X-APPLE-STRUCTURED-LOCATION;VALUE=URI;X-ADDRESS=\, Česká republika;X-APPL
 E-RADIUS=100;X-TITLE=Nové Hamry:geo:0,0
END:VEVENT
BEGIN:VTIMEZONE
TZID:Europe/Prague
X-LIC-LOCATION:Europe/Prague
BEGIN:DAYLIGHT
DTSTART:20260329T030000
TZOFFSETFROM:+0100
TZOFFSETTO:+0200
TZNAME:CEST
END:DAYLIGHT
END:VTIMEZONE
END:VCALENDAR